BEGIN:VCALENDAR
VERSION:2.0
PRODID:-//wp-events-plugin.com//7.2.3.1//EN
TZID:Europe/London
X-WR-TIMEZONE:Europe/London
BEGIN:VEVENT
UID:62@wku.org.uk
DTSTART:20161009T000000Z
DTEND:20161009T000000Z
DTSTAMP:20160928T081047Z
URL:http://www.wku.org.uk/events/wku-squad-to-cewka-international
SUMMARY:WKU Squad to CEWKA International
DESCRIPTION:
END:VEVENT
END:VCALENDAR