BEGIN:VCALENDAR
VERSION:2.0
PRODID:-//wp-events-plugin.com//7.2.3.1//EN
TZID:Europe/London
X-WR-TIMEZONE:Europe/London
BEGIN:VEVENT
UID:87@wku.org.uk
DTSTART:20170402T140000Z
DTEND:20170402T160000Z
DTSTAMP:20170221T110025Z
URL:http://www.wku.org.uk/events/wku-kata-course-april-2017
SUMMARY:WKU Kata Course\, April 2017
DESCRIPTION:We are looking for new WKU Kata Squad members to represent us a
 t future competitions – although this course is\, as always\, open to ev
 eryone with a WKU licence.\n\nSunday 2nd of April 2017\nVenue:-Bristol Kar
 ate Club Dojo\nTime:- 14:00 - 16:00\nCost: £3.00 per person\n\nAll stude
 nts please wear a white karate gi.\nCost: £3.00 per person\nAll students
  must pay this £3 fee for the course at the door  – all money goes t
 owards funding the WKU Squad.
CATEGORIES:Courses,WKU Squad Session/Selection
LOCATION:Bristol Karate Club Dojo \, Holy Nativity Church Hall\, School Roa
 d\, Totterdown\, Bristol\, BS4 3DJ\, United Kingdom
GEO:51.4400227;-2.57129359999999
X-APPLE-STRUCTURED-LOCATION;VALUE=URI;X-ADDRESS=Holy Nativity Church Hall\,
  School Road\, Totterdown\, Bristol\, BS4 3DJ\, United Kingdom;X-APPLE-RAD
 IUS=100;X-TITLE=Bristol Karate Club Dojo :geo:51.4400227,-2.57129359999999
END:VEVENT
END:VCALENDAR