BEGIN:VCALENDAR
VERSION:2.0
PRODID:-//wp-events-plugin.com//7.2.3.1//EN
TZID:Europe/London
X-WR-TIMEZONE:Europe/London
BEGIN:VEVENT
UID:100@wku.org.uk
DTSTART:20171210T100000Z
DTEND:20171210T100000Z
DTSTAMP:20170929T080454Z
URL:http://www.wku.org.uk/events/wku-dan-grading-winter-2017
SUMMARY:WKU Dan Grading – Winter 2017
DESCRIPTION:
CATEGORIES:WKU Dan Grading
LOCATION:Bristol Karate Club Dojo \, Holy Nativity Church Hall\, School Roa
 d\, Totterdown\, Bristol\, BS4 3DJ\, United Kingdom
GEO:51.4400227;-2.57129359999999
X-APPLE-STRUCTURED-LOCATION;VALUE=URI;X-ADDRESS=Holy Nativity Church Hall\,
  School Road\, Totterdown\, Bristol\, BS4 3DJ\, United Kingdom;X-APPLE-RAD
 IUS=100;X-TITLE=Bristol Karate Club Dojo :geo:51.4400227,-2.57129359999999
END:VEVENT
END:VCALENDAR